{
 "currentVersion": 11.4,
 "serviceDescription": "EnviroSci/NLCD_LandCover_Clip",
 "name": "EnviroSci/NLCD_LandCover_Clip",
 "description": "",
 "extent": {
  "xmin": 1563186.9724843863,
  "ymin": 221745.0993047133,
  "xmax": 1646319.125341176,
  "ymax": 331113.16131275427,
  "spatialReference": {
   "wkid": 102008,
   "latestWkid": 102008
  }
 },
 "initialExtent": {
  "xmin": 1563186.9724843863,
  "ymin": 221745.0993047133,
  "xmax": 1646319.125341176,
  "ymax": 331113.16131275427,
  "spatialReference": {
   "wkid": 102008,
   "latestWkid": 102008
  }
 },
 "fullExtent": {
  "xmin": 1563186.9724843863,
  "ymin": 221745.0993047133,
  "xmax": 1646319.125341176,
  "ymax": 331113.16131275427,
  "spatialReference": {
   "wkid": 102008,
   "latestWkid": 102008
  }
 },
 "sortableFields": "",
 "bandCount": 1,
 "pixelType": "U8",
 "minValues": [
  11
 ],
 "maxValues": [
  95
 ],
 "meanValues": [
  45.74561427874281
 ],
 "stdvValues": [
  21.326787787166076
 ],
 "hasMultidimensions": false,
 "pixelSizeX": 29.98995413304104,
 "pixelSizeY": 29.996725729029336,
 "meanPixelSize": 29.993339931035187,
 "datasetFormat": "FGDBR",
 "uncompressedSize": 10106712,
 "blockWidth": 128,
 "blockHeight": 128,
 "compressionType": "LZ77",
 "bandNames": [
  "Band_1"
 ],
 "allowCopy": true,
 "allowAnalysis": true,
 "itemAccess": false,
 "inspectionCapabilities": "",
 "minPixelSize": 0,
 "maxPixelSize": 0,
 "copyrightText": "",
 "serviceDataType": "esriImageServiceDataTypeThematic",
 "serviceSourceType": "esriImageServiceSourceTypeDataset",
 "objectIdField": "",
 "fields": [],
 "capabilities": "Image,Metadata,Mensuration",
 "defaultMosaicMethod": "Center",
 "allowedMosaicMethods": "",
 "sortField": "",
 "sortValue": null,
 "sortAscending": true,
 "mosaicOperator": "First",
 "defaultCompressionQuality": 75,
 "defaultResamplingMethod": "Bilinear",
 "maxImageHeight": 4100,
 "maxImageWidth": 15000,
 "allowRasterFunction": true,
 "rasterFunctionInfos": [
  {
   "name": "None",
   "description": "",
   "help": ""
  }
 ],
 "rasterTypeInfos": [
  {
   "name": "Raster Dataset",
   "description": "Supports all ArcGIS Raster Datasets",
   "help": ""
  }
 ],
 "mensurationCapabilities": "Basic",
 "hasHistograms": true,
 "hasColormap": false,
 "hasRasterAttributeTable": true,
 "minScale": 0,
 "maxScale": 0,
 "exportTilesAllowed": false,
 "supportsStatistics": false,
 "supportsAdvancedQueries": false,
 "editFieldsInfo": null,
 "ownershipBasedAccessControlForRasters": null,
 "allowComputeTiePoints": false,
 "useStandardizedQueries": true,
 "advancedQueryCapabilities": {
  "useStandardizedQueries": true,
  "supportsStatistics": false,
  "supportsOrderBy": false,
  "supportsDistinct": false,
  "supportsPagination": false
 },
 "spatialReference": {
  "wkid": 102008,
  "latestWkid": 102008
 }
}
