View In:
ArcGIS JavaScript
ArcGIS Online Map Viewer
ArcGIS Earth
Service Description: EnviroSci/NLCD_LandCover_Clip
Name: EnviroSci/NLCD_LandCover_Clip
Description:
Single Fused Map Cache: false
Extent:
XMin: 1563186.9724843863
YMin: 221745.0993047133
XMax: 1646319.125341176
YMax: 331113.16131275427
Spatial Reference: 102008
(102008)
LatestVCSWkid(0)
Initial Extent:
XMin: 1563186.9724843863
YMin: 221745.0993047133
XMax: 1646319.125341176
YMax: 331113.16131275427
Spatial Reference: 102008
(102008)
LatestVCSWkid(0)
Full Extent:
XMin: 1563186.9724843863
YMin: 221745.0993047133
XMax: 1646319.125341176
YMax: 331113.16131275427
Spatial Reference: 102008
(102008)
LatestVCSWkid(0)
Pixel Size X: 29.98995413304104
Pixel Size Y: 29.996725729029336
Band Count: 1
Pixel Type: U8
RasterFunction Infos: {"rasterFunctionInfos": [{
"name": "None",
"description": "",
"help": ""
}]}
Mensuration Capabilities: Basic
Inspection Capabilities:
Has Histograms: true
Has Colormap: false
Has Multi Dimensions : false
Rendering Rule:
Min Scale: 0
Max Scale: 0
Copyright Text:
Service Data Type: esriImageServiceDataTypeThematic
Min Values: 11
Max Values: 95
Mean Values: 45.74561427874281
Standard Deviation Values: 21.326787787166076
Object ID Field:
Fields:
None
Default Mosaic Method: Center
Allowed Mosaic Methods:
SortField:
SortValue: null
Mosaic Operator: First
Default Compression Quality: 75
Default Resampling Method: Bilinear
Max Record Count: null
Max Image Height: 4100
Max Image Width: 15000
Max Download Image Count: null
Max Mosaic Image Count: null
Allow Raster Function: true
Allow Copy: true
Allow Analysis: true
Allow Compute TiePoints: false
Supports Statistics: false
Supports Advanced Queries: false
Use StandardizedQueries: true
Raster Type Infos:
Name: Raster Dataset
Description: Supports all ArcGIS Raster Datasets
Help:
Has Raster Attribute Table: true
Edit Fields Info: null
Ownership Based AccessControl For Rasters: null
Child Resources:
Info
Raster Attribute Table
Histograms
Statistics
Key Properties
Legend
Raster Function Infos
Supported Operations:
Export Image
Identify
Measure
Compute Histograms
Compute Statistics Histograms
Get Samples
Compute Class Statistics
Query Boundary
Compute Pixel Location
Compute Angles
Validate
Project